BEGIN:VCALENDAR
VERSION:2.0
PRODID:-//Silverthorne Elementary School - ECPv6.15.20//NONSGML v1.0//EN
CALSCALE:GREGORIAN
METHOD:PUBLISH
X-ORIGINAL-URL:https://sil.sd54.bc.ca
X-WR-CALDESC:Events for Silverthorne Elementary School
REFRESH-INTERVAL;VALUE=DURATION:PT1H
X-Robots-Tag:noindex
X-PUBLISHED-TTL:PT1H
BEGIN:VTIMEZONE
TZID:America/Vancouver
BEGIN:DAYLIGHT
TZOFFSETFROM:-0800
TZOFFSETTO:-0700
TZNAME:PDT
DTSTART:20230312T100000
END:DAYLIGHT
BEGIN:STANDARD
TZOFFSETFROM:-0700
TZOFFSETTO:-0800
TZNAME:PST
DTSTART:20231105T090000
END:STANDARD
BEGIN:DAYLIGHT
TZOFFSETFROM:-0800
TZOFFSETTO:-0700
TZNAME:PDT
DTSTART:20240310T100000
END:DAYLIGHT
BEGIN:STANDARD
TZOFFSETFROM:-0700
TZOFFSETTO:-0800
TZNAME:PST
DTSTART:20241103T090000
END:STANDARD
BEGIN:DAYLIGHT
TZOFFSETFROM:-0800
TZOFFSETTO:-0700
TZNAME:PDT
DTSTART:20250309T100000
END:DAYLIGHT
BEGIN:STANDARD
TZOFFSETFROM:-0700
TZOFFSETTO:-0800
TZNAME:PST
DTSTART:20251102T090000
END:STANDARD
BEGIN:DAYLIGHT
TZOFFSETFROM:-0800
TZOFFSETTO:-0700
TZNAME:PDT
DTSTART:20260308T100000
END:DAYLIGHT
BEGIN:STANDARD
TZOFFSETFROM:-0700
TZOFFSETTO:-0800
TZNAME:PST
DTSTART:20261101T090000
END:STANDARD
END:VTIMEZONE
BEGIN:VEVENT
DTSTART;TZID=America/Vancouver:20250128T190000
DTEND;TZID=America/Vancouver:20250128T210000
DTSTAMP:20260419T144845
CREATED:20241030T105737Z
LAST-MODIFIED:20250128T152658Z
UID:10000043-1738090800-1738098000@sil.sd54.bc.ca
SUMMARY:School Board Meeting
DESCRIPTION:Board Meeting – Agendas \n\n \n 
URL:https://sil.sd54.bc.ca/event/school-board-meeting-6/
LOCATION:School Board Office\, 1235 Montreal Street\, PO Box 758\, Smithers\, BC\, V0J 2N0\, Canada
CATEGORIES:Board Meetings
END:VEVENT
BEGIN:VEVENT
DTSTART;TZID=America/Vancouver:20241210T190000
DTEND;TZID=America/Vancouver:20241210T210000
DTSTAMP:20260419T144845
CREATED:20240911T094905Z
LAST-MODIFIED:20241210T141332Z
UID:10000041-1733857200-1733864400@sil.sd54.bc.ca
SUMMARY:School Board Meeting
DESCRIPTION:Board Meeting – Agendas \n\n \n 
URL:https://sil.sd54.bc.ca/event/school-board-meeting-5/
LOCATION:School Board Office\, 1235 Montreal Street\, PO Box 758\, Smithers\, BC\, V0J 2N0\, Canada
CATEGORIES:Board Meetings
END:VEVENT
BEGIN:VEVENT
DTSTART;TZID=America/Vancouver:20241126T190000
DTEND;TZID=America/Vancouver:20241126T210000
DTSTAMP:20260419T144845
CREATED:20240828T081941Z
LAST-MODIFIED:20241126T124156Z
UID:10000040-1732647600-1732654800@sil.sd54.bc.ca
SUMMARY:School Board Meeting
DESCRIPTION:Board Meeting – Agendas \n\n \n 
URL:https://sil.sd54.bc.ca/event/school-board-meeting-4/
LOCATION:School Board Office\, 1235 Montreal Street\, PO Box 758\, Smithers\, BC\, V0J 2N0\, Canada
CATEGORIES:Board Meetings
END:VEVENT
BEGIN:VEVENT
DTSTART;TZID=America/Vancouver:20241022T190000
DTEND;TZID=America/Vancouver:20241022T210000
DTSTAMP:20260419T144845
CREATED:20240724T051901Z
LAST-MODIFIED:20241022T095710Z
UID:10000035-1729623600-1729630800@sil.sd54.bc.ca
SUMMARY:School Board Meeting
DESCRIPTION:Board Meeting – Agendas \n\n \n 
URL:https://sil.sd54.bc.ca/event/school-board-meeting-3/
LOCATION:School Board Office\, 1235 Montreal Street\, PO Box 758\, Smithers\, BC\, V0J 2N0\, Canada
CATEGORIES:Board Meetings
END:VEVENT
BEGIN:VEVENT
DTSTART;TZID=America/Vancouver:20240924T190000
DTEND;TZID=America/Vancouver:20240924T210000
DTSTAMP:20260419T144845
CREATED:20240626T050405Z
LAST-MODIFIED:20240921T083718Z
UID:10000032-1727204400-1727211600@sil.sd54.bc.ca
SUMMARY:School Board Meeting
DESCRIPTION:Board Meeting – Agendas \n\n \n 
URL:https://sil.sd54.bc.ca/event/school-board-meeting-2/
LOCATION:School Board Office\, 1235 Montreal Street\, PO Box 758\, Smithers\, BC\, V0J 2N0\, Canada
CATEGORIES:Board Meetings
END:VEVENT
BEGIN:VEVENT
DTSTART;TZID=America/Vancouver:20240625T190000
DTEND;TZID=America/Vancouver:20240625T210000
DTSTAMP:20260419T144845
CREATED:20240510T183547Z
LAST-MODIFIED:20240625T042210Z
UID:10000028-1719342000-1719349200@sil.sd54.bc.ca
SUMMARY:School Board Meeting
DESCRIPTION:Board Meeting – Agendas \n\n \n 
URL:https://sil.sd54.bc.ca/event/school-board-meeting/
LOCATION:School Board Office\, 1235 Montreal Street\, PO Box 758\, Smithers\, BC\, V0J 2N0\, Canada
CATEGORIES:Board Meetings
END:VEVENT
BEGIN:VEVENT
DTSTART;TZID=America/Vancouver:20240528T190000
DTEND;TZID=America/Vancouver:20240528T210000
DTSTAMP:20260419T144845
CREATED:20240509T202533Z
LAST-MODIFIED:20240528T234108Z
UID:10000026-1716922800-1716930000@sil.sd54.bc.ca
SUMMARY:School Board Meeting – Houston
DESCRIPTION:Board Meeting – Agendas \n\n \nThis month’s board meeting will take place in Houston.
URL:https://sil.sd54.bc.ca/event/school-board-meeting-houston-2/
LOCATION:Houston –  Houston Secondary School\, 1771 Walker Rd\, Houston\, British Columbia\, V0J 1Z0\, Canada
CATEGORIES:Board Meetings
END:VEVENT
END:VCALENDAR